BEGIN:VCALENDAR
VERSION:2.0
PRODID:-//puzlkind - ECPv6.15.17//NONSGML v1.0//EN
CALSCALE:GREGORIAN
METHOD:PUBLISH
X-ORIGINAL-URL:https://puzlkind.com
X-WR-CALDESC:Events for puzlkind
REFRESH-INTERVAL;VALUE=DURATION:PT1H
X-Robots-Tag:noindex
X-PUBLISHED-TTL:PT1H
BEGIN:VTIMEZONE
TZID:America/New_York
BEGIN:DAYLIGHT
TZOFFSETFROM:-0500
TZOFFSETTO:-0400
TZNAME:EDT
DTSTART:20210314T070000
END:DAYLIGHT
BEGIN:STANDARD
TZOFFSETFROM:-0400
TZOFFSETTO:-0500
TZNAME:EST
DTSTART:20211107T060000
END:STANDARD
BEGIN:DAYLIGHT
TZOFFSETFROM:-0500
TZOFFSETTO:-0400
TZNAME:EDT
DTSTART:20220313T070000
END:DAYLIGHT
BEGIN:STANDARD
TZOFFSETFROM:-0400
TZOFFSETTO:-0500
TZNAME:EST
DTSTART:20221106T060000
END:STANDARD
BEGIN:DAYLIGHT
TZOFFSETFROM:-0500
TZOFFSETTO:-0400
TZNAME:EDT
DTSTART:20230312T070000
END:DAYLIGHT
BEGIN:STANDARD
TZOFFSETFROM:-0400
TZOFFSETTO:-0500
TZNAME:EST
DTSTART:20231105T060000
END:STANDARD
END:VTIMEZONE
BEGIN:VTIMEZONE
TZID:UTC
BEGIN:STANDARD
TZOFFSETFROM:+0000
TZOFFSETTO:+0000
TZNAME:UTC
DTSTART:20210101T000000
END:STANDARD
END:VTIMEZONE
BEGIN:VEVENT
DTSTART;TZID=America/New_York:20220117T090000
DTEND;TZID=America/New_York:20220121T100000
DTSTAMP:20260420T190114
CREATED:20220113T225420Z
LAST-MODIFIED:20220114T042105Z
UID:424-1642410000-1642759200@puzlkind.com
SUMMARY:Puzlkind Happy Hour: Connect & Reflect - Where do you find Courage?
DESCRIPTION:In honor of MLK. Please attend in-app via the button labeled “Join Happy Hour” at the bottom of the Puzlkind app homepage.
URL:https://puzlkind.com/event/puzlkind-happy-hour-connect-reflect-where-do-you-find-courage/
LOCATION:RI
END:VEVENT
BEGIN:VEVENT
DTSTART;TZID=UTC:20220117T210000
DTEND;TZID=UTC:20220117T220000
DTSTAMP:20260420T190114
CREATED:20220113T225642Z
LAST-MODIFIED:20220114T150654Z
UID:429-1642453200-1642456800@puzlkind.com
SUMMARY:Puzzle Parlor (Women 40+)
DESCRIPTION:Puzlkind co-Poobah Sarah Jane Lapp and Puzlkind’s PuzzlePolisher Rani MacNeal offer the Revel community a curated journey into an artist’s jigsaw puzzle gallery! \nThe Revel Puzlkind Puzzle club will access complimentary co-assembly of Sarah Jane’s digital jigsaw puzzles which provide an opportunity to explore a growth mindset\, creative problem-solving\, and emotional challenges. \nWe offer this peaceful and playful space for visionary change makers to connect and reflect on making the world into Beloved Community. \nOur inaugural session will honor MLK and we’ll talk about Courage! What gives you courage? \nWe will offer a quick demo of the app itself; please bring a fully-charged mobile device\, iPad\, or desktop access to Steam for you gamers.
URL:https://puzlkind.com/event/puzzle-parlor-women-40/
LOCATION:RI
END:VEVENT
END:VCALENDAR