BEGIN:VCALENDAR
VERSION:2.0
PRODID:-//puzlkind - ECPv6.15.17//NONSGML v1.0//EN
CALSCALE:GREGORIAN
METHOD:PUBLISH
X-WR-CALNAME:puzlkind
X-ORIGINAL-URL:https://puzlkind.com
X-WR-CALDESC:Events for puzlkind
REFRESH-INTERVAL;VALUE=DURATION:PT1H
X-Robots-Tag:noindex
X-PUBLISHED-TTL:PT1H
BEGIN:VTIMEZONE
TZID:Asia/Karachi
BEGIN:STANDARD
TZOFFSETFROM:+0500
TZOFFSETTO:+0500
TZNAME:PKT
DTSTART:20220101T000000
END:STANDARD
END:VTIMEZONE
BEGIN:VEVENT
DTSTART;TZID=Asia/Karachi:20230125T123000
DTEND;TZID=Asia/Karachi:20230125T134500
DTSTAMP:20260419T221107
CREATED:20230119T202141Z
LAST-MODIFIED:20230119T203709Z
UID:640-1674649800-1674654300@puzlkind.com
SUMMARY:A Conversation About Money with Joline Godfrey
DESCRIPTION:The team at Puzlkind leads you in a digital co-creation experience that combines the art of conversation\, the art of puzzle assembly\, and art itself. Featuring financial educator Joline Godfrey. \nFree registration: https://letsreimagine.org/experiences/grief-growth-money
URL:https://puzlkind.com/event/a-conversation-about-money-with-joline-godfrey/
LOCATION:RI
END:VEVENT
END:VCALENDAR