BEGIN:VCALENDAR
VERSION:2.0
PRODID:-//puzlkind - ECPv6.15.17//NONSGML v1.0//EN
CALSCALE:GREGORIAN
METHOD:PUBLISH
X-WR-CALNAME:puzlkind
X-ORIGINAL-URL:https://puzlkind.com
X-WR-CALDESC:Events for puzlkind
REFRESH-INTERVAL;VALUE=DURATION:PT1H
X-Robots-Tag:noindex
X-PUBLISHED-TTL:PT1H
BEGIN:VTIMEZONE
TZID:America/New_York
BEGIN:DAYLIGHT
TZOFFSETFROM:-0500
TZOFFSETTO:-0400
TZNAME:EDT
DTSTART:20220313T070000
END:DAYLIGHT
BEGIN:STANDARD
TZOFFSETFROM:-0400
TZOFFSETTO:-0500
TZNAME:EST
DTSTART:20221106T060000
END:STANDARD
BEGIN:DAYLIGHT
TZOFFSETFROM:-0500
TZOFFSETTO:-0400
TZNAME:EDT
DTSTART:20230312T070000
END:DAYLIGHT
BEGIN:STANDARD
TZOFFSETFROM:-0400
TZOFFSETTO:-0500
TZNAME:EST
DTSTART:20231105T060000
END:STANDARD
BEGIN:DAYLIGHT
TZOFFSETFROM:-0500
TZOFFSETTO:-0400
TZNAME:EDT
DTSTART:20240310T070000
END:DAYLIGHT
BEGIN:STANDARD
TZOFFSETFROM:-0400
TZOFFSETTO:-0500
TZNAME:EST
DTSTART:20241103T060000
END:STANDARD
END:VTIMEZONE
BEGIN:VEVENT
DTSTART;TZID=America/New_York:20230214T173000
DTEND;TZID=America/New_York:20230214T203000
DTSTAMP:20260419T201901
CREATED:20230202T172557Z
LAST-MODIFIED:20230202T172707Z
UID:650-1676395800-1676406600@puzlkind.com
SUMMARY:Puzzical Chairs & Pie Matchmaking Edition ❤️
DESCRIPTION:Join us on the HEATED back Patio of The Point Tavern for some matchmaking mojo with Skyjelly serenading us on the Oud! Get your tickets at vdaypuzzicalchairs.eventbrite.com
URL:https://puzlkind.com/event/puzzical-chairs-pie-matchmaking-edition-%e2%9d%a4%ef%b8%8f/
LOCATION:The Point Tavern\, 302 Wickenden Street\, Providence\, RI\, 02903\, United States
END:VEVENT
END:VCALENDAR