BEGIN:VCALENDAR
VERSION:2.0
PRODID:-//puzlkind - ECPv6.15.17//NONSGML v1.0//EN
CALSCALE:GREGORIAN
METHOD:PUBLISH
X-ORIGINAL-URL:https://puzlkind.com
X-WR-CALDESC:Events for puzlkind
REFRESH-INTERVAL;VALUE=DURATION:PT1H
X-Robots-Tag:noindex
X-PUBLISHED-TTL:PT1H
BEGIN:VTIMEZONE
TZID:America/New_York
BEGIN:DAYLIGHT
TZOFFSETFROM:-0500
TZOFFSETTO:-0400
TZNAME:EDT
DTSTART:20220313T070000
END:DAYLIGHT
BEGIN:STANDARD
TZOFFSETFROM:-0400
TZOFFSETTO:-0500
TZNAME:EST
DTSTART:20221106T060000
END:STANDARD
BEGIN:DAYLIGHT
TZOFFSETFROM:-0500
TZOFFSETTO:-0400
TZNAME:EDT
DTSTART:20230312T070000
END:DAYLIGHT
BEGIN:STANDARD
TZOFFSETFROM:-0400
TZOFFSETTO:-0500
TZNAME:EST
DTSTART:20231105T060000
END:STANDARD
BEGIN:DAYLIGHT
TZOFFSETFROM:-0500
TZOFFSETTO:-0400
TZNAME:EDT
DTSTART:20240310T070000
END:DAYLIGHT
BEGIN:STANDARD
TZOFFSETFROM:-0400
TZOFFSETTO:-0500
TZNAME:EST
DTSTART:20241103T060000
END:STANDARD
END:VTIMEZONE
BEGIN:VEVENT
DTSTART;TZID=America/New_York:20231001T170000
DTEND;TZID=America/New_York:20231001T180000
DTSTAMP:20260419T202110
CREATED:20230928T144801Z
LAST-MODIFIED:20231004T174648Z
UID:782-1696179600-1696183200@puzlkind.com
SUMMARY:Puzzical Chairs with Skyjelly at Wooly Fair
DESCRIPTION:Join us at Providence’s beloved participatory art carnival\, Wooly Fair! \nWooly Fair will be from 3pm to 9pm and we will be puzzling with Skyjelly from 5pm to 7 pm. See you there! \nGet your tickets in advance at https://woolyfair.org/
URL:https://puzlkind.com/event/puzzical-chairs-wit-skyjelly-at-wooly-fair/
LOCATION:The Steel Yard\, 27 Sims Avenue\, Providence\, RI\, 02909\, United States
END:VEVENT
END:VCALENDAR