BEGIN:VCALENDAR
VERSION:2.0
PRODID:-//puzlkind - ECPv6.15.17//NONSGML v1.0//EN
CALSCALE:GREGORIAN
METHOD:PUBLISH
X-ORIGINAL-URL:https://puzlkind.com
X-WR-CALDESC:Events for puzlkind
REFRESH-INTERVAL;VALUE=DURATION:PT1H
X-Robots-Tag:noindex
X-PUBLISHED-TTL:PT1H
BEGIN:VTIMEZONE
TZID:America/New_York
BEGIN:DAYLIGHT
TZOFFSETFROM:-0500
TZOFFSETTO:-0400
TZNAME:EDT
DTSTART:20240310T070000
END:DAYLIGHT
BEGIN:STANDARD
TZOFFSETFROM:-0400
TZOFFSETTO:-0500
TZNAME:EST
DTSTART:20241103T060000
END:STANDARD
BEGIN:DAYLIGHT
TZOFFSETFROM:-0500
TZOFFSETTO:-0400
TZNAME:EDT
DTSTART:20250309T070000
END:DAYLIGHT
BEGIN:STANDARD
TZOFFSETFROM:-0400
TZOFFSETTO:-0500
TZNAME:EST
DTSTART:20251102T060000
END:STANDARD
BEGIN:DAYLIGHT
TZOFFSETFROM:-0500
TZOFFSETTO:-0400
TZNAME:EDT
DTSTART:20260308T070000
END:DAYLIGHT
BEGIN:STANDARD
TZOFFSETFROM:-0400
TZOFFSETTO:-0500
TZNAME:EST
DTSTART:20261101T060000
END:STANDARD
END:VTIMEZONE
BEGIN:VEVENT
DTSTART;TZID=America/New_York:20250518T130000
DTEND;TZID=America/New_York:20250518T150000
DTSTAMP:20260420T104930
CREATED:20250321T184350Z
LAST-MODIFIED:20250409T160920Z
UID:871-1747573200-1747580400@puzlkind.com
SUMMARY:Puzzical Chairs & Pie with live music by Skyjelly
DESCRIPTION:Puzzical Chairs & Pie with live music by Skyjelly \n \nCreating Connections in our Thriving City with Puzzles\, Pie\, Music\, & Dancing \nJoin the crew at Puzlkind Jigsaw Puzzles with their special guests Skyjelly as we puzzle\, dance\, connect\, & eat pie! All Ages\, All People\, All Free. \nJoin us on the Bally’s Event Lawn at 195 District Park (on the Jewelry District side of the Michael S. Van Leesten Memorial Bridge) as a haven for community connection at our Puzzical Chairs & Pie Event with Skyjelly on Sunday\, May 18th at 1:00 pm (Rain Date: September 7th\, 4-6pm).  \nPuzzical Chairs is an intergenerational\, interactive\, inspiring\, family friendly and festive experience that fosters new neural and social connections for our thriving community. We will match participants with an initial puzzle partner to assemble an original Sarah Jane Lapp 24 piece jigsaw puzzle for the duration of a Skyjelly song. When the song changes\, partners change\, too! Free hand pies for the first 100 participants. LGBTQIA2S+ and all ages welcome. \nGenerously funded with a grant by 195 District Park. \nThis event is FREE\, OPEN TO THE PUBLIC.  \nPlease save the date and r.s.v.p. at https://maychairs.eventbrite.com \nCheck out all of our upcoming events at https://puzlkind.eventbrite.com
URL:https://puzlkind.com/event/puzzical-chairs-pie-with-live-music-by-skyjelly-2/
LOCATION:Bally’s Event Lawn at 195 District Park\, 195 District Park\, Providence\, RI\, 02903\, United States
END:VEVENT
END:VCALENDAR