BEGIN:VCALENDAR
VERSION:2.0
PRODID:-//puzlkind - ECPv6.15.17//NONSGML v1.0//EN
CALSCALE:GREGORIAN
METHOD:PUBLISH
X-ORIGINAL-URL:https://puzlkind.com
X-WR-CALDESC:Events for puzlkind
REFRESH-INTERVAL;VALUE=DURATION:PT1H
X-Robots-Tag:noindex
X-PUBLISHED-TTL:PT1H
BEGIN:VTIMEZONE
TZID:America/New_York
BEGIN:DAYLIGHT
TZOFFSETFROM:-0500
TZOFFSETTO:-0400
TZNAME:EDT
DTSTART:20250309T070000
END:DAYLIGHT
BEGIN:STANDARD
TZOFFSETFROM:-0400
TZOFFSETTO:-0500
TZNAME:EST
DTSTART:20251102T060000
END:STANDARD
BEGIN:DAYLIGHT
TZOFFSETFROM:-0500
TZOFFSETTO:-0400
TZNAME:EDT
DTSTART:20260308T070000
END:DAYLIGHT
BEGIN:STANDARD
TZOFFSETFROM:-0400
TZOFFSETTO:-0500
TZNAME:EST
DTSTART:20261101T060000
END:STANDARD
BEGIN:DAYLIGHT
TZOFFSETFROM:-0500
TZOFFSETTO:-0400
TZNAME:EDT
DTSTART:20270314T070000
END:DAYLIGHT
BEGIN:STANDARD
TZOFFSETFROM:-0400
TZOFFSETTO:-0500
TZNAME:EST
DTSTART:20271107T060000
END:STANDARD
END:VTIMEZONE
BEGIN:VEVENT
DTSTART;TZID=America/New_York:20260129T180000
DTEND;TZID=America/New_York:20260129T200000
DTSTAMP:20260420T071403
CREATED:20260116T164621Z
LAST-MODIFIED:20260123T212358Z
UID:928-1769709600-1769716800@puzlkind.com
SUMMARY:International Puzzle Day Celebration with featured guest Sara McMahon in the Puzlkind App
DESCRIPTION:Our free National Puzzle Day Celebration with featured guest Sara McMahon will happen inside the free Puzlkind Jigsaw Puzzles app which you can download to your phone or tablet. Gamer? Find us on Steam. \nWe will listen to and interact with our featured guest Sara Carmer McMahon and each other while assembling a puzzle together in our app. \n \nSara Carmer McMahon is a graduate of The American Musical and Dramatic Academy\, NYC\, and a company member and teacher at Unexpected Productions\, Seattle. As an applied improv facilitator and coach\, she specializes in teaching groups\, individuals\, and couples listening skills\, playfulness\, empathy\, connectedness\, and liberation from fear of failure. Most recently\, she has created and illustrated The Playdate Deck\, a 65-card deck of Two-Person improv-based games designed to increase connection\, playfulness\, and relationship resilience. More information about her artwork and improv facilitation can be found at www.saradelighted.com and You can find her two-person game videos on YouTube @ Sara Delighted \nINSTRUCTIONS: \nDownload the Puzlkind Jigsaw Puzzles app\, create a screen name\, and\, at the appointed time\, click on the Public Puzl Hour button on the main menu. The app will take you to our virtual puzzle table where we’ll all assemble the same digital puzzle while talking to each other… \nIf the audio doesn’t work at first\, then exit the app and come back. \nPlease save the date and r.s.v.p. at https://nationalpuzzleday2026.eventbrite.com \nCheck out all of our upcoming events at https://puzlkind.eventbrite.com
URL:https://puzlkind.com/event/international-puzzle-day-celebration-with-featured-guest-sara-mcmahon-in-the-puzlkind-app/
LOCATION:MA
ATTACH;FMTTYPE=image/png:https://puzlkind.com/wp-content/uploads/2026/01/Eventbrite-Banner-Puzlkind-Happy-Hour-2160-x-1080-px.png
END:VEVENT
BEGIN:VEVENT
DTSTART;TZID=America/New_York:20260523T140000
DTEND;TZID=America/New_York:20260523T160000
DTSTAMP:20260420T071403
CREATED:20260406T144328Z
LAST-MODIFIED:20260406T144730Z
UID:939-1779544800-1779552000@puzlkind.com
SUMMARY:Puzzical Chairs & Pie with live music by Skyjelly
DESCRIPTION:Puzzical Chairs & Pie with live music by Skyjelly \nCreating Connections in our Thriving City with Puzzles\, Pie\, Music\, & Dancing \nJoin the crew at Puzlkind Jigsaw Puzzles with special guests Skyjelly as we puzzle\, dance\, connect\, & eat pie! All Ages\, All People\, All Free. \nJoin us for your 5th year on Bally’s Event Lawn at 195 District Park (on the Jewelry District side of the Michael S. Van Leesten Memorial Bridge) as a haven for community connection at our Puzzical Chairs & Pie Event with Skyjelly on Saturday\, May 23rd at 2:00 pm.  \nPuzzical Chairs is a FREE intergenerational\, family friendly and festive experience that fosters new neural and social connections for our thriving community. We will match participants with an initial puzzle partner to assemble an original Sarah Jane Lapp 24 piece jigsaw puzzle for the duration of a Skyjelly song. When the song changes\, partners change\, too! Free hand pies for the first 100 participants! All ages\, abilities\, races\, genders\, religions\, beliefs\, countries of origin\, sexual orientations\, and income levels welcome. \nThis activity is made possible in part by a grant from 195 District Park and a grant from the Rhode Island State Council on the Arts\, through an appropriation by the Rhode Island General Assembly and a grant from the National Endowment for the Arts. \nRain Date: Sunday\, May 24\, 2026 from 2-4 pm \nThis event is FREE & OPEN TO THE PUBLIC.  \nPlease save the date and r.s.v.p. at https://dpmaychairs2026.eventbrite.com \nCheck out all of our upcoming events at https://puzlkind.eventbrite.com
URL:https://puzlkind.com/event/puzzical-chairs-pie-with-live-music-by-skyjelly-3/
LOCATION:Bally’s Event Lawn at 195 District Park\, 195 District Park\, Providence\, RI\, 02903\, United States
CATEGORIES:Puzzical Chairs
ATTACH;FMTTYPE=image/jpeg:https://puzlkind.com/wp-content/uploads/2026/04/Puzzical-Chairs-Web-Banner-scaled.jpg
END:VEVENT
END:VCALENDAR