BEGIN:VCALENDAR
VERSION:2.0
PRODID:-//puzlkind - ECPv6.15.17//NONSGML v1.0//EN
CALSCALE:GREGORIAN
METHOD:PUBLISH
X-WR-CALNAME:puzlkind
X-ORIGINAL-URL:https://puzlkind.com
X-WR-CALDESC:Events for puzlkind
REFRESH-INTERVAL;VALUE=DURATION:PT1H
X-Robots-Tag:noindex
X-PUBLISHED-TTL:PT1H
BEGIN:VTIMEZONE
TZID:America/New_York
BEGIN:DAYLIGHT
TZOFFSETFROM:-0500
TZOFFSETTO:-0400
TZNAME:EDT
DTSTART:20200308T070000
END:DAYLIGHT
BEGIN:STANDARD
TZOFFSETFROM:-0400
TZOFFSETTO:-0500
TZNAME:EST
DTSTART:20201101T060000
END:STANDARD
BEGIN:DAYLIGHT
TZOFFSETFROM:-0500
TZOFFSETTO:-0400
TZNAME:EDT
DTSTART:20210314T070000
END:DAYLIGHT
BEGIN:STANDARD
TZOFFSETFROM:-0400
TZOFFSETTO:-0500
TZNAME:EST
DTSTART:20211107T060000
END:STANDARD
BEGIN:DAYLIGHT
TZOFFSETFROM:-0500
TZOFFSETTO:-0400
TZNAME:EDT
DTSTART:20220313T070000
END:DAYLIGHT
BEGIN:STANDARD
TZOFFSETFROM:-0400
TZOFFSETTO:-0500
TZNAME:EST
DTSTART:20221106T060000
END:STANDARD
END:VTIMEZONE
BEGIN:VEVENT
DTSTART;TZID=America/New_York:20210721T193000
DTEND;TZID=America/New_York:20210721T210000
DTSTAMP:20260421T040005
CREATED:20210719T012047Z
LAST-MODIFIED:20210719T012047Z
UID:316-1626895800-1626901200@puzlkind.com
SUMMARY:Healing Happy Hour
DESCRIPTION:Srinivas Reddy will puzzle with us and play his stunning sitar!
URL:https://puzlkind.com/event/healing-happy-hour/
LOCATION:RI
END:VEVENT
END:VCALENDAR