BEGIN:VCALENDAR
VERSION:2.0
PRODID:-//puzlkind - ECPv6.15.17//NONSGML v1.0//EN
CALSCALE:GREGORIAN
METHOD:PUBLISH
X-ORIGINAL-URL:https://puzlkind.com
X-WR-CALDESC:Events for puzlkind
REFRESH-INTERVAL;VALUE=DURATION:PT1H
X-Robots-Tag:noindex
X-PUBLISHED-TTL:PT1H
BEGIN:VTIMEZONE
TZID:UTC
BEGIN:STANDARD
TZOFFSETFROM:+0000
TZOFFSETTO:+0000
TZNAME:UTC
DTSTART:20200101T000000
END:STANDARD
END:VTIMEZONE
BEGIN:VEVENT
DTSTART;TZID=UTC:20210828T210000
DTEND;TZID=UTC:20210828T220000
DTSTAMP:20260421T021533
CREATED:20210826T232123Z
LAST-MODIFIED:20210826T232145Z
UID:321-1630184400-1630188000@puzlkind.com
SUMMARY:Leo Happy Hour
DESCRIPTION:Lions on the loose! Join us for end o’ summer fun!
URL:https://puzlkind.com/event/leo-happy-hour/
LOCATION:RI
END:VEVENT
END:VCALENDAR