BEGIN:VCALENDAR
VERSION:2.0
PRODID:-//puzlkind - ECPv6.15.17//NONSGML v1.0//EN
CALSCALE:GREGORIAN
METHOD:PUBLISH
X-WR-CALNAME:puzlkind
X-ORIGINAL-URL:https://puzlkind.com
X-WR-CALDESC:Events for puzlkind
REFRESH-INTERVAL;VALUE=DURATION:PT1H
X-Robots-Tag:noindex
X-PUBLISHED-TTL:PT1H
BEGIN:VTIMEZONE
TZID:UTC
BEGIN:STANDARD
TZOFFSETFROM:+0000
TZOFFSETTO:+0000
TZNAME:UTC
DTSTART:20200101T000000
END:STANDARD
END:VTIMEZONE
BEGIN:VEVENT
DTSTART;TZID=UTC:20211130T190000
DTEND;TZID=UTC:20211130T203000
DTSTAMP:20260420T204556
CREATED:20211126T143824Z
LAST-MODIFIED:20211126T143824Z
UID:377-1638298800-1638304200@puzlkind.com
SUMMARY:Holiday Hater Happy Hour with Beth Adoette
DESCRIPTION:Alchemize your pain with naturalist Beth Adoette!
URL:https://puzlkind.com/event/holiday-hater-happy-hour-with-beth-adoette/
LOCATION:RI
END:VEVENT
END:VCALENDAR