BEGIN:VCALENDAR
VERSION:2.0
PRODID:-//puzlkind - ECPv6.15.17//NONSGML v1.0//EN
CALSCALE:GREGORIAN
METHOD:PUBLISH
X-ORIGINAL-URL:https://puzlkind.com
X-WR-CALDESC:Events for puzlkind
REFRESH-INTERVAL;VALUE=DURATION:PT1H
X-Robots-Tag:noindex
X-PUBLISHED-TTL:PT1H
BEGIN:VTIMEZONE
TZID:UTC
BEGIN:STANDARD
TZOFFSETFROM:+0000
TZOFFSETTO:+0000
TZNAME:UTC
DTSTART:20220101T000000
END:STANDARD
END:VTIMEZONE
BEGIN:VEVENT
DTSTART;TZID=UTC:20230812T150000
DTEND;TZID=UTC:20230812T170000
DTSTAMP:20260419T144649
CREATED:20230511T170919Z
LAST-MODIFIED:20230511T170919Z
UID:749-1691852400-1691859600@puzlkind.com
SUMMARY:Puzzical Chairs & Pie with Skyjelly on Oud
DESCRIPTION:Puzzical Chairs & Pie with music by Skyjelly on Oud –\nCreating Connections with Puzzles\, Pie\, Music\, & Dancing\nJoin the crew at Puzlkind Jigsaw Puzzles with their special guests Skyjelly as we puzzle\, dance\, connect\, & eat pie! All Ages\, All People\, All Free.\nHelp celebrate summer in Hull on Nantasket Beach and join us for community connection at our Puzzical Chairs & Pie Event with Skyjelly on Saturday\, August 12th at 3:00 pm.\nPuzzical Chairs is an intergenerational\, interactive\, inspiring\, family friendly and festive experience that fosters new neural and social connections for our thriving community. We will match participants with an initial puzzle partner to assemble an original Sarah Jane Lapp 24 piece jigsaw puzzle for the duration of a Vox Hunters’ song. When the song changes\, partners change\, too! Free hand pies for the first 50 participants. LGBTQIA2S+ and all ages welcome.\nGenerously brought to you by Save the Bay/Better Beaches and Friends of Nantasket Beach.\nThis event is FREE\, OPEN TO THE PUBLIC.
URL:https://puzlkind.com/event/puzzical-chairs-pie-with-skyjelly-on-oud/
LOCATION:Bernie King Pavillion\, Hull Shore Dr #37-010\, Hull\, MA\, 02045\, United States
END:VEVENT
END:VCALENDAR