BEGIN:VCALENDAR
VERSION:2.0
PRODID:-//puzlkind - ECPv6.15.17//NONSGML v1.0//EN
CALSCALE:GREGORIAN
METHOD:PUBLISH
X-WR-CALNAME:puzlkind
X-ORIGINAL-URL:https://puzlkind.com
X-WR-CALDESC:Events for puzlkind
REFRESH-INTERVAL;VALUE=DURATION:PT1H
X-Robots-Tag:noindex
X-PUBLISHED-TTL:PT1H
BEGIN:VTIMEZONE
TZID:America/New_York
BEGIN:DAYLIGHT
TZOFFSETFROM:-0500
TZOFFSETTO:-0400
TZNAME:EDT
DTSTART:20230312T070000
END:DAYLIGHT
BEGIN:STANDARD
TZOFFSETFROM:-0400
TZOFFSETTO:-0500
TZNAME:EST
DTSTART:20231105T060000
END:STANDARD
BEGIN:DAYLIGHT
TZOFFSETFROM:-0500
TZOFFSETTO:-0400
TZNAME:EDT
DTSTART:20240310T070000
END:DAYLIGHT
BEGIN:STANDARD
TZOFFSETFROM:-0400
TZOFFSETTO:-0500
TZNAME:EST
DTSTART:20241103T060000
END:STANDARD
BEGIN:DAYLIGHT
TZOFFSETFROM:-0500
TZOFFSETTO:-0400
TZNAME:EDT
DTSTART:20250309T070000
END:DAYLIGHT
BEGIN:STANDARD
TZOFFSETFROM:-0400
TZOFFSETTO:-0500
TZNAME:EST
DTSTART:20251102T060000
END:STANDARD
END:VTIMEZONE
BEGIN:VEVENT
DTSTART;TZID=America/New_York:20240711T170000
DTEND;TZID=America/New_York:20240711T190000
DTSTAMP:20260420T034245
CREATED:20240710T142306Z
LAST-MODIFIED:20240710T144032Z
UID:855-1720717200-1720724400@puzlkind.com
SUMMARY:Puzzicals Chairs & Pops with Live Music by Skyjelly
DESCRIPTION:Creating Connections in New Bedford with Puzzles\, Popsicles\, Music\, & Dancing \nJoin the crew at Puzlkind Jigsaw Puzzles with their special guests Skyjelly as we puzzle\, dance\, connect\, & eat popsicles! All Ages\, All People\, All Free. \nJoin us on the street in front of The Drawing Room at 22 William Street\, New Bedford\, MA 02740 as a haven for community connection at our Puzzical Chairs & Pops Event with Skyjelly on Thursday\, July 11th at 5:00 pm as part of Kids Rule AHA! Night. Come early and stay later to enjoy New Bedford’s other fun Aha! Night activities! \nThis event is FREE\, OPEN TO THE PUBLIC. \nPlease save the date and r.s.v.p. at https://www.eventbrite.com/e/puzzical-chairs-pops-tickets-919556988707
URL:https://puzlkind.com/event/puzzicals-chairs-pops-with-live-music-by-skyjelly/
LOCATION:The Drawing Room\, 22 William Street\, New Bedford\, MA\, 02740\, United States
ATTACH;FMTTYPE=image/png:https://puzlkind.com/wp-content/uploads/2024/07/1.png
END:VEVENT
END:VCALENDAR