BEGIN:VCALENDAR
VERSION:2.0
PRODID:-//puzlkind - ECPv6.15.17//NONSGML v1.0//EN
CALSCALE:GREGORIAN
METHOD:PUBLISH
X-ORIGINAL-URL:https://puzlkind.com
X-WR-CALDESC:Events for puzlkind
REFRESH-INTERVAL;VALUE=DURATION:PT1H
X-Robots-Tag:noindex
X-PUBLISHED-TTL:PT1H
BEGIN:VTIMEZONE
TZID:America/New_York
BEGIN:DAYLIGHT
TZOFFSETFROM:-0500
TZOFFSETTO:-0400
TZNAME:EDT
DTSTART:20240310T070000
END:DAYLIGHT
BEGIN:STANDARD
TZOFFSETFROM:-0400
TZOFFSETTO:-0500
TZNAME:EST
DTSTART:20241103T060000
END:STANDARD
BEGIN:DAYLIGHT
TZOFFSETFROM:-0500
TZOFFSETTO:-0400
TZNAME:EDT
DTSTART:20250309T070000
END:DAYLIGHT
BEGIN:STANDARD
TZOFFSETFROM:-0400
TZOFFSETTO:-0500
TZNAME:EST
DTSTART:20251102T060000
END:STANDARD
BEGIN:DAYLIGHT
TZOFFSETFROM:-0500
TZOFFSETTO:-0400
TZNAME:EDT
DTSTART:20260308T070000
END:DAYLIGHT
BEGIN:STANDARD
TZOFFSETFROM:-0400
TZOFFSETTO:-0500
TZNAME:EST
DTSTART:20261101T060000
END:STANDARD
END:VTIMEZONE
BEGIN:VEVENT
DTSTART;TZID=America/New_York:20250406T140000
DTEND;TZID=America/New_York:20250406T160000
DTSTAMP:20260420T070838
CREATED:20250321T194752Z
LAST-MODIFIED:20250321T194752Z
UID:889-1743948000-1743955200@puzlkind.com
SUMMARY:Puzlkind Open Mic Poetry Happy Hour
DESCRIPTION:Our free Open Mic Poetry happy hour will happen inside the free Puzlkind Jigsaw Puzzles app which you can download to your phone or tablet. Gamer? Find us on Steam. We will listen to original poetry from YOU our community while assembling a puzzle together in our app. \nINSTRUCTIONS: \nDownload the Puzlkind Jigsaw Puzzles app\, create a screen name\, and\, at the appointed time\, click on Public Puzl Hour button the main menu. The app will take you to our virtual puzzle table where we’ll all assemble the same digital puzzle while talking to each other… \nIf the audio doesn’t work at first\, then exit the app and come back. \nWant to recite your 1- 2 minute original work at open mic? Please email contact@puzlkind.com to sign up (first 20 people to respond are in). \nPlease save the date and r.s.v.p. at https://openmichappyhour.eventbrite.com \nCheck out all of our upcoming events at https://puzlkind.eventbrite.com
URL:https://puzlkind.com/event/puzlkind-open-mic-poetry-happy-hour/
LOCATION:RI
END:VEVENT
END:VCALENDAR